BEGIN:VCALENDAR
VERSION:2.0
PRODID:-//ox.ac.uk//NONSGML oxford.event//EN
X-WR-TIMEZONE:Europe/London
BEGIN:VTIMEZONE
TZID:Europe/London
X-LIC-LOCATION:Europe/London
BEGIN:DAYLIGHT
DTSTART;VALUE=DATE-TIME:19700329T010000
RRULE:FREQ=YEARLY;BYDAY=-1SU;BYMONTH=3
TZNAME:BST
TZOFFSETFROM:+0000
TZOFFSETTO:+0100
END:DAYLIGHT
BEGIN:STANDARD
DTSTART;VALUE=DATE-TIME:19701025T020000
RRULE:FREQ=YEARLY;BYDAY=-1SU;BYMONTH=10
TZNAME:GMT
TZOFFSETFROM:+0100
TZOFFSETTO:+0000
END:STANDARD
END:VTIMEZONE
BEGIN:VEVENT
SUMMARY:Department Seminar Series | Effective and Meaningful Lived Experie
 nce Involvement - What Can We Learn From Peer Support Worker Roles Within 
 a Forensic Service?
DTSTART;TZID=Europe/London;VALUE=DATE-TIME:20260428T093000
DTEND;TZID=Europe/London;VALUE=DATE-TIME:20260428T103000
DTSTAMP;VALUE=DATE-TIME:20260420T120933Z
UID:c46fd3874ac447b187634a34449aef33
CONTACT:Rania Elgarf\, rania.elgarf@psych.ox.ac.uk
CREATED;VALUE=DATE-TIME:20260420T082530Z
LAST-MODIFIED;VALUE=DATE-TIME:20260420T082548Z
SPEAKER:Dr Harriet Lawrence\, Oxford Health NHS Foundation Trust
END:VEVENT
END:VCALENDAR
